BEGIN:VCALENDAR
PRODID:NingEventWidget-v1
VERSION:2.0
METHOD:PUBLISH
BEGIN:VTIMEZONE
TZID:America/Los_Angeles
X-LIC-LOCATION:America/Los_Angeles
BEGIN:DAYLIGHT
TZOFFSETFROM:-0800
TZOFFSETTO:-0700
TZNAME:PDT
DTSTART:19700308T020000
RRULE:FREQ=YEARLY;BYMONTH=3;BYDAY=2SU
END:DAYLIGHT
BEGIN:STANDARD
TZOFFSETFROM:-0700
TZOFFSETTO:-0800
TZNAME:PST
DTSTART:19701101T020000
RRULE:FREQ=YEARLY;BYMONTH=11;BYDAY=1SU
END:STANDARD
END:VTIMEZONE
BEGIN:VEVENT
UID:4450389:Event:223914
DTSTAMP:20260421T075219Z
SUMMARY:420 In The Foothills
DESCRIPTION:Saddle up Volks!\nVWCF is going to the foothills near Lake
  Oroville at Lime Saddle Campground. This place is beautiful this time
  of year whilst it's still green and the wildflowers are out. Soon aft
 er, this place is parched and HOT. LS is fairly new, with flush commod
 es and showers. There's a nice short trail amongst the oaks with an ex
 plosion of wildflowers. If you have a boat there's a marina nearby.\nT
 he old VWCF adage holds - Bring firewood. Bring tasty beverages. Bring
  a friend. Have fun.\nhope to see you there!\n\nFor more information v
 isit https://vwcamperfamily.ning.com/events/420-in-the-foothills
DTSTART;TZID=America/Los_Angeles:20240419T150000
DTEND;TZID=America/Los_Angeles:20240421T120000
CATEGORIES:camping, weekend, trip
LOCATION:Lime Saddle CG, Lake Oroville
WEBSITE:https://www.parks.ca.gov/?page_id=462
URL:https://www.parks.ca.gov/?page_id=462
CONTACT:(530) 876-8516
ORGANIZER;CN=KampnKing:https://vwcamperfamily.ning.com/profile/RalphCh
 annell
ATTACH;FMTTYPE="image/jpeg":https://storage.ning.com/topology/rest/1.0
 /file/get/12385086060?profile=original
ATTENDEE;ROLE=REQ-PARTICIPANT;PARTSTAT=ACCEPTED;RSVP=TRUE;CN=regis101:
 https://vwcamperfamily.ning.com/profile/regis101
ATTENDEE;ROLE=REQ-PARTICIPANT;PARTSTAT=ACCEPTED;RSVP=TRUE;CN="Scott & 
 Karla":https://vwcamperfamily.ning.com/profile/ScottP
ATTENDEE;ROLE=REQ-PARTICIPANT;PARTSTAT=ACCEPTED;RSVP=TRUE;CN="John LaT
 orre":https://vwcamperfamily.ning.com/profile/JohnLaTorre
ATTENDEE;ROLE=REQ-PARTICIPANT;PARTSTAT=ACCEPTED;RSVP=TRUE;CN=KampnKing
 :https://vwcamperfamily.ning.com/profile/RalphChannell
ATTENDEE;ROLE=REQ-PARTICIPANT;PARTSTAT=TENTATIVE;RSVP=TRUE;CN="Melissa
  Boyd":https://vwcamperfamily.ning.com/profile/MelissaBoyd
ATTENDEE;ROLE=REQ-PARTICIPANT;PARTSTAT=TENTATIVE;RSVP=TRUE;CN=eva:http
 s://vwcamperfamily.ning.com/profile/eva
ATTENDEE;ROLE=REQ-PARTICIPANT;PARTSTAT=TENTATIVE;RSVP=TRUE;CN="Robyn K
 err":https://vwcamperfamily.ning.com/profile/RobynKerr
END:VEVENT
END:VCALENDAR
