BEGIN:VCALENDAR
PRODID:NingEventWidget-v1
VERSION:2.0
METHOD:PUBLISH
BEGIN:VTIMEZONE
TZID:America/Los_Angeles
X-LIC-LOCATION:America/Los_Angeles
BEGIN:DAYLIGHT
TZOFFSETFROM:-0800
TZOFFSETTO:-0700
TZNAME:PDT
DTSTART:19700308T020000
RRULE:FREQ=YEARLY;BYMONTH=3;BYDAY=2SU
END:DAYLIGHT
BEGIN:STANDARD
TZOFFSETFROM:-0700
TZOFFSETTO:-0800
TZNAME:PST
DTSTART:19701101T020000
RRULE:FREQ=YEARLY;BYMONTH=11;BYDAY=1SU
END:STANDARD
END:VTIMEZONE
BEGIN:VEVENT
UID:4450389:Event:224797
DTSTAMP:20260422T095301Z
SUMMARY:Lakeport Camp &amp; Shine
DESCRIPTION:I'm posting this to get the word out, although I'm not act
 ually sponsoring this one. It's a car show on Saturday, June 15, with 
 camping at a nearby campground.\n\nFor more information visit https://
 vwcamperfamily.ning.com/events/lakeport-camp-amp-shine
DTSTART;TZID=America/Los_Angeles:20240615T080000
DTEND;TZID=America/Los_Angeles:20240615T150000
CATEGORIES:campout, and, car, show
LOCATION:Lakeport
WEBSITE:https://www.facebook.com/events/3846527432259974/
URL:https://www.facebook.com/events/3846527432259974/
CONTACT:Text Ron Holman at 925-876-9460 for more info
ORGANIZER:Ron Holman
ATTACH;FMTTYPE="image/jpeg":
ATTENDEE;ROLE=REQ-PARTICIPANT;PARTSTAT=ACCEPTED;RSVP=TRUE;CN="Laura Ma
 y":https://vwcamperfamily.ning.com/profile/LauraMay
ATTENDEE;ROLE=REQ-PARTICIPANT;PARTSTAT=ACCEPTED;RSVP=TRUE;CN="John LaT
 orre":https://vwcamperfamily.ning.com/profile/JohnLaTorre
ATTENDEE;ROLE=REQ-PARTICIPANT;PARTSTAT=TENTATIVE;RSVP=TRUE;CN="John Be
 verly":https://vwcamperfamily.ning.com/profile/JohnBeverly395
END:VEVENT
END:VCALENDAR
